BEGIN:VCALENDAR
VERSION:2.0
PRODID:-//ddaysoftware.com//NONSGML DDay.iCal 1.0//EN
BEGIN:VTIMEZONE
TZID:GMT Standard Time
BEGIN:STANDARD
DTSTART:20251002T020000
RRULE:FREQ=YEARLY;BYDAY=-1SU;BYHOUR=2;BYMINUTE=0;BYMONTH=10
TZNAME:GMT Standard Time
TZOFFSETFROM:+0100
TZOFFSETTO:+0000
END:STANDARD
BEGIN:DAYLIGHT
DTSTART:20250301T010000
RRULE:FREQ=YEARLY;BYDAY=-1SU;BYHOUR=1;BYMINUTE=0;BYMONTH=3
TZNAME:GMT Daylight Time
TZOFFSETFROM:+0000
TZOFFSETTO:+0100
END:DAYLIGHT
END:VTIMEZONE
BEGIN:VEVENT
DESCRIPTION:****** This event is not organized by Grommr. "Two Tons of Fun"
  is entirely run independently by individual community members who have be
 en vetted by the Grommr team.******\n\n\n=================================
 ====================\n\nHappy 2025\, Chubs & Chasers!\nWe missed you so mu
 ch! ❤️\n \n\nSoooooo… \n\nDidn't get your kiss under the mistletoe on New 
 Year's Eve? (WHAAAAAT?)\nHaven't found your Valentine yet? (YET!)\nAll of 
 the above? Or none of the above? You just like dancing to amazing pop tune
 s?\n\nNo worries\, Two Tons of Fun is starting 2025 with our much loved TR
 AFFIC LIGHT PARTY! 🚦🚦🚦\n\nAnd remember\, it's as simple as Red Amber Gr
 een!\n\n- Red for Taken\n- Orange if you're Open\n- Green if you're Single
  (and ready to mingle!)\nWe will have coloured wristbands at the door so y
 ou can identify yourself 😝\n\nBut you can also wear your colour! I am sur
 e some of you will make a sexy (who said slutty?) green outfit happen!\n\n
 So\, better save the date and grab your tickets online NOW!! (link below)\
 n\nxoxo\n\nThe Two Tons of Fun Team\n\n\n=================================
 ====================\n\nHere's all you need to know:\n\n\nWhere? City of Q
 uebec (Club) 12 Old Quebec St\, London W1H 7AF\, seconds from Marble Arch 
 Underground Station!\n\n\nWhen? 28/02 9pm - 01/03 3am\n\n\nHow? Follow thi
 s link and book your ticket: https://link.outsavvy.com/twotonsoffun\n\n===
 ==================================================\n\n\nPS: Don't forget t
 o give us a follow on:\nInstagram: @two_tons_of_fun\nFacebook: @TwoTonsOfF
 unLDN\nBluesky: @two-tons-of-fun.bsky.social\nX: @2Tons_Of_FunLDN\n\nEvent
  details provided by Grommr.\nhttps://www.grommr.com/Event/TwoTonsOfFunTLP
DTEND:20250301T030000
DTSTAMP:20260425T161523Z
DTSTART:20250228T210000
LOCATION:London\, England\, United Kingdom
SEQUENCE:0
SUMMARY:Two Tons of Fun - Traffic Light Party
UID:ea2e942b-e382-442e-9474-878c01a66b88
END:VEVENT
END:VCALENDAR
