BEGIN:VCALENDAR
VERSION:2.0
PRODID:-//ddaysoftware.com//NONSGML DDay.iCal 1.0//EN
BEGIN:VTIMEZONE
TZID:Eastern Standard Time
BEGIN:STANDARD
DTSTART:20251102T020000
RRULE:FREQ=YEARLY;BYDAY=1SU;BYHOUR=2;BYMINUTE=0;BYMONTH=11
TZNAME:Eastern Standard Time
TZOFFSETFROM:-0400
TZOFFSETTO:-0500
END:STANDARD
BEGIN:DAYLIGHT
DTSTART:20250301T020000
RRULE:FREQ=YEARLY;BYDAY=2SU;BYHOUR=2;BYMINUTE=0;BYMONTH=3
TZNAME:Eastern Daylight Time
TZOFFSETFROM:-0500
TZOFFSETTO:-0400
END:DAYLIGHT
END:VTIMEZONE
BEGIN:VEVENT
DESCRIPTION:We welcome you to a special year of many firsts and the return 
 of a water park venue! With last year’s record setting event\, we are plea
 sed to invite you to a fun-packed weekend starting on Thursday\, June 30th
  winding down on Monday\, June 3 rd . In celebration of Stonewall’s 50th a
 nniversary we come together with One Magical Weekend and Girls in Wonderla
 nd to make a splash at Riptide on Friday night\, June 1st. The private par
 ty will run from 8pm-2am at Disney’s Typhoon Lagoon.\n\nThe Holiday Inn\, 
 Disney Springs will again be our host hotel with all new room renovations 
 and more amenities for your comfort and enjoyment. Improved sound and ligh
 ting along with our incredibly talented DJ’s will ensure each legendary po
 ol party to bring a smile to your face.\n\nWe will be offering a Friday an
 d Saturday movie at the pool (weather permitting) and a Wet Underwear part
 y Saturday afternoon.\n\nBearaoke Contest with your special host\, Nakia! 
 We will have a preliminary round on Thursday with finals on Saturday. Priz
 es for 1st\, 2nd and 3rd place winners. The contest is limited to the firs
 t 10 contestants so sign up fast!\n\nThis year we will offer a Game Room w
 ith board games\, cards\, twister\,ping pong &amp\; cornhole.\n\nA larger 
 vendor area bringing the hottest merchandise!!\n\nDaily Tidal Wave Trivia 
 powered by Kahoot\n\nBingo-Friday and Saturday with Cash and Prizes** ** O
 ptional Event\n\n\n**Note: This listing is NOT an official Grommr event\, 
 however we have included it because we believe it may be of interest to so
 me members of the Grommr community. If you’re interested in attending\, fe
 el free to use the event wall and RSVP list to communicate with other folk
 s who might also be interested in going!**\n\nEvent details provided by Gr
 ommr.\nhttps://www.grommr.com/Event/TidalWaveParty
DTEND:20190602T000000
DTSTAMP:20260424T160925Z
DTSTART:20190530T000000
LOCATION:Orlando\, Florida\, United States
SEQUENCE:0
SUMMARY:Tidal Wave Party
UID:a778b141-82e0-46a5-91c9-cc856de79d15
END:VEVENT
END:VCALENDAR
